BEGIN:VCALENDAR
VERSION:2.0
PRODID:icalendar-ruby
CALSCALE:GREGORIAN
METHOD:PUBLISH
BEGIN:VEVENT
DTSTAMP:20260420T182631Z
UID:21-312262@tuckahoeumc.org
DTSTART:20260509T210000Z
DTEND:20260509T230000Z
CLASS:PUBLIC
CREATED:20260404T091511
DESCRIPTION:
LAST-MODIFIED:20260404T091511
LOCATION:TUMC Fellowship Hall
SUMMARY:Ham Dinner 5/9/26 Eat in or Takeout available!
URL;VALUE=URI:https://www.tuckahoeumc.org/events/ham-dinner-5-9-26-eat-in-o
 r-takeout-available/2026-05-09
ATTACH;FILENAME=Save the Date Ham Dinner 5.9.26.jpg;FMTTYPE=image/jpeg:http
 s://dq5pwpg1q8ru0.cloudfront.net/2026/04/04/13/15/10/8ec9e44a-bd6c-4683-94
 e6-5a3dd53ee0ad/Save%20the%20Date%20Ham%20Dinner%205.9.26.jpg
END:VEVENT
END:VCALENDAR
